BEGIN:VCALENDAR
VERSION:2.0
PRODID:-//Hewenhof - ECPv6.15.15//NONSGML v1.0//EN
CALSCALE:GREGORIAN
METHOD:PUBLISH
X-ORIGINAL-URL:http://www.hewenhof.de
X-WR-CALDESC:Veranstaltungen für Hewenhof
REFRESH-INTERVAL;VALUE=DURATION:PT1H
X-Robots-Tag:noindex
X-PUBLISHED-TTL:PT1H
BEGIN:VTIMEZONE
TZID:Europe/Berlin
BEGIN:DAYLIGHT
TZOFFSETFROM:+0100
TZOFFSETTO:+0200
TZNAME:CEST
DTSTART:20210328T010000
END:DAYLIGHT
BEGIN:STANDARD
TZOFFSETFROM:+0200
TZOFFSETTO:+0100
TZNAME:CET
DTSTART:20211031T010000
END:STANDARD
BEGIN:DAYLIGHT
TZOFFSETFROM:+0100
TZOFFSETTO:+0200
TZNAME:CEST
DTSTART:20220327T010000
END:DAYLIGHT
BEGIN:STANDARD
TZOFFSETFROM:+0200
TZOFFSETTO:+0100
TZNAME:CET
DTSTART:20221030T010000
END:STANDARD
BEGIN:DAYLIGHT
TZOFFSETFROM:+0100
TZOFFSETTO:+0200
TZNAME:CEST
DTSTART:20230326T010000
END:DAYLIGHT
BEGIN:STANDARD
TZOFFSETFROM:+0200
TZOFFSETTO:+0100
TZNAME:CET
DTSTART:20231029T010000
END:STANDARD
END:VTIMEZONE
BEGIN:VEVENT
DTSTART;TZID=Europe/Berlin:20220527T140000
DTEND;TZID=Europe/Berlin:20220529T170000
DTSTAMP:20260423T034005
CREATED:20220116T122624Z
LAST-MODIFIED:20220116T123207Z
UID:252-1653660000-1653843600@www.hewenhof.de
SUMMARY:Kurs mit Sandra Breitenstein
DESCRIPTION:Wir freuen uns Sandra Breitenstein auf einem 2 1/2- Tageskurs bei uns zu haben.\nSandra ist in den einzelnen Disziplinen nicht festgelegt\, jedoch liegt ihr Steckenpferd in der Ranch Riding und Reining. Sie holt jeden Reiter und dessen Pferd auf dem jeweiligen Stand/Niveau ab. Der Kurs ist sowohl für Freizeitreiter\, Tunierreiter\, Allaroundreiter aber auch Reiter anderer Klassen geeignet. Alle sind hier herzlich Willkommen und können sich gut aufgehoben fühlen.\nWeitere Infos zu Sandra Breitenstein findet ihr unter www.xxx-performance-horses.de\n\nSichert euch einen der freien Kursplätze\n\nKursgebühr 350 € (zuzüglich Box tgl. 20 Euro)\n5 Reiteinheiten á 45 Minuten\n\nEs können auch einzelne Tage gebucht werden.
URL:http://www.hewenhof.de/event/kurs-mit-sandra-breitenstein-4/
LOCATION:Hewenhof 2\, Hewenhof 2\, Engen\, 78234\, Deutschland
CATEGORIES:Reitkurs
ATTACH;FMTTYPE=image/jpeg:http://www.hewenhof.de/wp-content/uploads/2022/01/AF86261.jpg
END:VEVENT
END:VCALENDAR