BEGIN:VCALENDAR
VERSION:2.0
PRODID:-//Hewenhof - ECPv6.15.15//NONSGML v1.0//EN
CALSCALE:GREGORIAN
METHOD:PUBLISH
X-WR-CALNAME:Hewenhof
X-ORIGINAL-URL:http://www.hewenhof.de
X-WR-CALDESC:Veranstaltungen für Hewenhof
REFRESH-INTERVAL;VALUE=DURATION:PT1H
X-Robots-Tag:noindex
X-PUBLISHED-TTL:PT1H
BEGIN:VTIMEZONE
TZID:Europe/Berlin
BEGIN:DAYLIGHT
TZOFFSETFROM:+0100
TZOFFSETTO:+0200
TZNAME:CEST
DTSTART:20200329T010000
END:DAYLIGHT
BEGIN:STANDARD
TZOFFSETFROM:+0200
TZOFFSETTO:+0100
TZNAME:CET
DTSTART:20201025T010000
END:STANDARD
BEGIN:DAYLIGHT
TZOFFSETFROM:+0100
TZOFFSETTO:+0200
TZNAME:CEST
DTSTART:20210328T010000
END:DAYLIGHT
BEGIN:STANDARD
TZOFFSETFROM:+0200
TZOFFSETTO:+0100
TZNAME:CET
DTSTART:20211031T010000
END:STANDARD
BEGIN:DAYLIGHT
TZOFFSETFROM:+0100
TZOFFSETTO:+0200
TZNAME:CEST
DTSTART:20220327T010000
END:DAYLIGHT
BEGIN:STANDARD
TZOFFSETFROM:+0200
TZOFFSETTO:+0100
TZNAME:CET
DTSTART:20221030T010000
END:STANDARD
END:VTIMEZONE
BEGIN:VEVENT
DTSTART;VALUE=DATE:20210918
DTEND;VALUE=DATE:20210920
DTSTAMP:20260423T170433
CREATED:20210420T111802Z
LAST-MODIFIED:20210726T093149Z
UID:227-1631923200-1632095999@www.hewenhof.de
SUMMARY:2 Tageskurs mit Sandra Breitenstein
DESCRIPTION:2 Tageskurs mit Sandra Breitenstein \n\n4 Reiteinheiten\nPreis 260 Euro\n\nDer Kurs findet nach den aktuellen Richtlinien der Corona-Verordnung BW statt.
URL:http://www.hewenhof.de/event/2-tageskurs-mit-sandra-breitenstein/
LOCATION:Hewenhof 2\, Hewenhof 2\, Engen\, 78234\, Deutschland
CATEGORIES:Reitkurs
END:VEVENT
END:VCALENDAR