BEGIN:VCALENDAR
VERSION:2.0
PRODID:-//Hewenhof - ECPv6.15.15//NONSGML v1.0//EN
CALSCALE:GREGORIAN
METHOD:PUBLISH
X-ORIGINAL-URL:http://www.hewenhof.de
X-WR-CALDESC:Veranstaltungen für Hewenhof
REFRESH-INTERVAL;VALUE=DURATION:PT1H
X-Robots-Tag:noindex
X-PUBLISHED-TTL:PT1H
BEGIN:VTIMEZONE
TZID:Europe/Berlin
BEGIN:DAYLIGHT
TZOFFSETFROM:+0100
TZOFFSETTO:+0200
TZNAME:CEST
DTSTART:20200329T010000
END:DAYLIGHT
BEGIN:STANDARD
TZOFFSETFROM:+0200
TZOFFSETTO:+0100
TZNAME:CET
DTSTART:20201025T010000
END:STANDARD
BEGIN:DAYLIGHT
TZOFFSETFROM:+0100
TZOFFSETTO:+0200
TZNAME:CEST
DTSTART:20210328T010000
END:DAYLIGHT
BEGIN:STANDARD
TZOFFSETFROM:+0200
TZOFFSETTO:+0100
TZNAME:CET
DTSTART:20211031T010000
END:STANDARD
BEGIN:DAYLIGHT
TZOFFSETFROM:+0100
TZOFFSETTO:+0200
TZNAME:CEST
DTSTART:20220327T010000
END:DAYLIGHT
BEGIN:STANDARD
TZOFFSETFROM:+0200
TZOFFSETTO:+0100
TZNAME:CET
DTSTART:20221030T010000
END:STANDARD
END:VTIMEZONE
BEGIN:VEVENT
DTSTART;TZID=Europe/Berlin:20210708T120000
DTEND;TZID=Europe/Berlin:20210709T170000
DTSTAMP:20260423T204001
CREATED:20210420T110920Z
LAST-MODIFIED:20210420T112823Z
UID:222-1625745600-1625850000@www.hewenhof.de
SUMMARY:1\,5 Tageskurs mit Sandra Breitenstein
DESCRIPTION:1\,5 Tageskurs mit Sandra Breitenstein \n\n3 Reiteinheiten\nPreis 195 Euro\n\nDer Kurs findet nach den aktuellen Richtlinien der Corona-Verordnung BW statt.
URL:http://www.hewenhof.de/event/15-tageskurs-mit-sandra-breitenstein/
LOCATION:Hewenhof 2\, Hewenhof 2\, Engen\, 78234\, Deutschland
CATEGORIES:Reitkurs
END:VEVENT
END:VCALENDAR