BEGIN:VCALENDAR
VERSION:2.0
PRODID:-//Hewenhof - ECPv6.15.15//NONSGML v1.0//EN
CALSCALE:GREGORIAN
METHOD:PUBLISH
X-ORIGINAL-URL:http://www.hewenhof.de
X-WR-CALDESC:Veranstaltungen für Hewenhof
REFRESH-INTERVAL;VALUE=DURATION:PT1H
X-Robots-Tag:noindex
X-PUBLISHED-TTL:PT1H
BEGIN:VTIMEZONE
TZID:Europe/Berlin
BEGIN:DAYLIGHT
TZOFFSETFROM:+0100
TZOFFSETTO:+0200
TZNAME:CEST
DTSTART:20230326T010000
END:DAYLIGHT
BEGIN:STANDARD
TZOFFSETFROM:+0200
TZOFFSETTO:+0100
TZNAME:CET
DTSTART:20231029T010000
END:STANDARD
BEGIN:DAYLIGHT
TZOFFSETFROM:+0100
TZOFFSETTO:+0200
TZNAME:CEST
DTSTART:20240331T010000
END:DAYLIGHT
BEGIN:STANDARD
TZOFFSETFROM:+0200
TZOFFSETTO:+0100
TZNAME:CET
DTSTART:20241027T010000
END:STANDARD
BEGIN:DAYLIGHT
TZOFFSETFROM:+0100
TZOFFSETTO:+0200
TZNAME:CEST
DTSTART:20250330T010000
END:DAYLIGHT
BEGIN:STANDARD
TZOFFSETFROM:+0200
TZOFFSETTO:+0100
TZNAME:CET
DTSTART:20251026T010000
END:STANDARD
END:VTIMEZONE
BEGIN:VEVENT
DTSTART;VALUE=DATE:20240407
DTEND;VALUE=DATE:20240408
DTSTAMP:20260421T114128
CREATED:20240118T150708Z
LAST-MODIFIED:20240118T150708Z
UID:338-1712448000-1712534399@www.hewenhof.de
SUMMARY:Marlene Strauss
DESCRIPTION:
URL:http://www.hewenhof.de/event/marlene-strauss/
LOCATION:Hewenhof 2\, Hewenhof 2\, Engen\, 78234\, Deutschland
CATEGORIES:Reitkurs
END:VEVENT
BEGIN:VEVENT
DTSTART;VALUE=DATE:20240413
DTEND;VALUE=DATE:20240422
DTSTAMP:20260421T114128
CREATED:20240118T150631Z
LAST-MODIFIED:20240118T150631Z
UID:336-1712966400-1713743999@www.hewenhof.de
SUMMARY:WRA 3 & 4
DESCRIPTION:
URL:http://www.hewenhof.de/event/wra-3-4/
LOCATION:Hewenhof 2\, Hewenhof 2\, Engen\, 78234\, Deutschland
CATEGORIES:Reitkurs
END:VEVENT
BEGIN:VEVENT
DTSTART;VALUE=DATE:20240421
DTEND;VALUE=DATE:20240422
DTSTAMP:20260421T114128
CREATED:20240118T063513Z
LAST-MODIFIED:20240118T064327Z
UID:318-1713657600-1713743999@www.hewenhof.de
SUMMARY:Prüfung Motivationsabzeichen
DESCRIPTION:
URL:http://www.hewenhof.de/event/pruefung-motivationsabzeichen/
LOCATION:Hewenhof 2\, Hewenhof 2\, Engen\, 78234\, Deutschland
CATEGORIES:Reitkurs
END:VEVENT
END:VCALENDAR