BEGIN:VCALENDAR
VERSION:2.0
PRODID:-//Hewenhof - ECPv6.15.15//NONSGML v1.0//EN
CALSCALE:GREGORIAN
METHOD:PUBLISH
X-ORIGINAL-URL:http://www.hewenhof.de
X-WR-CALDESC:Veranstaltungen für Hewenhof
REFRESH-INTERVAL;VALUE=DURATION:PT1H
X-Robots-Tag:noindex
X-PUBLISHED-TTL:PT1H
BEGIN:VTIMEZONE
TZID:Europe/Berlin
BEGIN:DAYLIGHT
TZOFFSETFROM:+0100
TZOFFSETTO:+0200
TZNAME:CEST
DTSTART:20250330T010000
END:DAYLIGHT
BEGIN:STANDARD
TZOFFSETFROM:+0200
TZOFFSETTO:+0100
TZNAME:CET
DTSTART:20251026T010000
END:STANDARD
BEGIN:DAYLIGHT
TZOFFSETFROM:+0100
TZOFFSETTO:+0200
TZNAME:CEST
DTSTART:20260329T010000
END:DAYLIGHT
BEGIN:STANDARD
TZOFFSETFROM:+0200
TZOFFSETTO:+0100
TZNAME:CET
DTSTART:20261025T010000
END:STANDARD
BEGIN:DAYLIGHT
TZOFFSETFROM:+0100
TZOFFSETTO:+0200
TZNAME:CEST
DTSTART:20270328T010000
END:DAYLIGHT
BEGIN:STANDARD
TZOFFSETFROM:+0200
TZOFFSETTO:+0100
TZNAME:CET
DTSTART:20271031T010000
END:STANDARD
END:VTIMEZONE
BEGIN:VEVENT
DTSTART;TZID=Europe/Berlin:20260402T103000
DTEND;TZID=Europe/Berlin:20260406T163000
DTSTAMP:20260419T194231
CREATED:20260203T204040Z
LAST-MODIFIED:20260203T204040Z
UID:439-1775125800-1775493000@www.hewenhof.de
SUMMARY:APO Kurs WRA 3 & 4 sowie PFU
DESCRIPTION:
URL:http://www.hewenhof.de/event/apo-kurs-wra-3-4-sowie-pfu/
LOCATION:Hewenhof 2\, Hewenhof 2\, Engen\, 78234\, Deutschland
CATEGORIES:Reitkurs
END:VEVENT
END:VCALENDAR