BEGIN:VCALENDAR
VERSION:2.0
PRODID:-//Hewenhof - ECPv6.15.15//NONSGML v1.0//EN
CALSCALE:GREGORIAN
METHOD:PUBLISH
X-WR-CALNAME:Hewenhof
X-ORIGINAL-URL:http://www.hewenhof.de
X-WR-CALDESC:Veranstaltungen für Hewenhof
REFRESH-INTERVAL;VALUE=DURATION:PT1H
X-Robots-Tag:noindex
X-PUBLISHED-TTL:PT1H
BEGIN:VTIMEZONE
TZID:Europe/Berlin
BEGIN:DAYLIGHT
TZOFFSETFROM:+0100
TZOFFSETTO:+0200
TZNAME:CEST
DTSTART:20230326T010000
END:DAYLIGHT
BEGIN:STANDARD
TZOFFSETFROM:+0200
TZOFFSETTO:+0100
TZNAME:CET
DTSTART:20231029T010000
END:STANDARD
BEGIN:DAYLIGHT
TZOFFSETFROM:+0100
TZOFFSETTO:+0200
TZNAME:CEST
DTSTART:20240331T010000
END:DAYLIGHT
BEGIN:STANDARD
TZOFFSETFROM:+0200
TZOFFSETTO:+0100
TZNAME:CET
DTSTART:20241027T010000
END:STANDARD
BEGIN:DAYLIGHT
TZOFFSETFROM:+0100
TZOFFSETTO:+0200
TZNAME:CEST
DTSTART:20250330T010000
END:DAYLIGHT
BEGIN:STANDARD
TZOFFSETFROM:+0200
TZOFFSETTO:+0100
TZNAME:CET
DTSTART:20251026T010000
END:STANDARD
END:VTIMEZONE
BEGIN:VEVENT
DTSTART;VALUE=DATE:20241021
DTEND;VALUE=DATE:20241023
DTSTAMP:20260421T030946
CREATED:20240118T063318Z
LAST-MODIFIED:20240118T063318Z
UID:314-1729468800-1729641599@www.hewenhof.de
SUMMARY:Hennig Daude
DESCRIPTION:Training mit Henning Daude \n  \nHenning Daude Reitlehrer \nInfos zu Henning Daude:\nhttps://www.henningdaude.de/training/
URL:http://www.hewenhof.de/event/hennig-daude/
LOCATION:Hewenhof 2\, Hewenhof 2\, Engen\, 78234\, Deutschland
CATEGORIES:Reitkurs
END:VEVENT
END:VCALENDAR